BEGIN:VCALENDAR
VERSION:2.0
PRODID:icalendar-ruby
CALSCALE:GREGORIAN
METHOD:PUBLISH
BEGIN:VEVENT
DTSTAMP:20260423T172000Z
UID:59-638584@stthomascambridge.ca
DTSTART:20261022T200000Z
DTEND:20261022T210000Z
CLASS:PUBLIC
CREATED:20260423T100434
DESCRIPTION:If you are not able to join us on Sundays or if you would prefe
 r a smaller\, quieter service\, please join Pastor Craig for a Midday Pray
 er Service every Thursday at 1:00 pm.  All are welcome!\n 
LAST-MODIFIED:20260423T100434
LOCATION:
SUMMARY:Mid-Week Holy Eucharist Service
URL;VALUE=URI:https://www.stthomascambridge.ca/events/mid-week-holy-euchari
 st-service/2026-10-22
ATTACH;FILENAME=download (1).jpg;FMTTYPE=image/jpeg:https://dq5pwpg1q8ru0.c
 loudfront.net/2023/01/06/12/59/30/1c1ad35d-8dfd-41a5-b0bd-2d5e11f43aef/dow
 nload%20(1).jpg
END:VEVENT
END:VCALENDAR
